Package: lapmix Version: 1.70.0 Command: chmod a+r lapmix -R && E:\biocbuild\bbs-3.19-bioc\R\bin\R.exe CMD build --keep-empty-dirs --no-resave-data lapmix StartedAt: 2024-10-16 19:58:11 -0400 (Wed, 16 Oct 2024) EndedAt: 2024-10-16 19:58:23 -0400 (Wed, 16 Oct 2024) EllapsedTime: 11.5 seconds RetCode: 0 Status: OK PackageFile: lapmix_1.70.0.tar.gz PackageFileSize: 246.8 KiB