Package: lefser Version: 1.14.0 Command: /Library/Frameworks/R.framework/Resources/bin/R CMD build --keep-empty-dirs --no-resave-data lefser StartedAt: 2024-10-17 03:13:30 -0400 (Thu, 17 Oct 2024) EndedAt: 2024-10-17 03:14:27 -0400 (Thu, 17 Oct 2024) EllapsedTime: 57.0 seconds RetCode: 0 Status: OK PackageFile: lefser_1.14.0.tar.gz PackageFileSize: 701.3 KiB