Package: lefser Version: 1.14.0 Command: /home/biocbuild/R/R-beta-2024-04-15_r86425/bin/R CMD check --install=check:lefser.install-out.txt --library=/home/biocbuild/R/R-beta-2024-04-15_r86425/site-library --no-vignettes --timings lefser_1.14.0.tar.gz StartedAt: 2024-05-09 08:50:37 -0000 (Thu, 09 May 2024) EndedAt: 2024-05-09 08:55:07 -0000 (Thu, 09 May 2024) EllapsedTime: 269.6 seconds RetCode: 0 Status: OK CheckDir: lefser.Rcheck Warnings: 0