Package: lefser Version: 1.14.0 Command: rm -rf lefser.buildbin-libdir && mkdir lefser.buildbin-libdir && /Users/biocbuild/BBS/utils/build-universal.sh lefser_1.14.0.tar.gz /Library/Frameworks/R.framework/Resources/bin/R lefser.buildbin-libdir StartedAt: 2024-10-17 16:28:02 -0400 (Thu, 17 Oct 2024) EndedAt: 2024-10-17 16:28:59 -0400 (Thu, 17 Oct 2024) EllapsedTime: 57.1 seconds RetCode: 0 Status: OK PackageFile: lefser_1.14.0.tgz PackageFileSize: 727.1 KiB