Package: lefser Version: 1.14.0 Command: /Library/Frameworks/R.framework/Resources/bin/R CMD INSTALL lefser StartedAt: 2024-10-16 16:22:41 -0400 (Wed, 16 Oct 2024) EndedAt: 2024-10-16 16:23:34 -0400 (Wed, 16 Oct 2024) EllapsedTime: 53.6 seconds RetCode: 0 Status: OK