Package: lefser Version: 1.14.0 Command: F:\biocbuild\bbs-3.19-bioc\R\bin\R.exe CMD INSTALL lefser StartedAt: 2024-06-26 16:34:15 -0400 (Wed, 26 Jun 2024) EndedAt: 2024-06-26 16:34:46 -0400 (Wed, 26 Jun 2024) EllapsedTime: 31.3 seconds RetCode: 0 Status: OK