Package: les Version: 1.54.0 Command: rm -rf les.buildbin-libdir && mkdir les.buildbin-libdir && /Users/biocbuild/BBS/utils/build-universal.sh les_1.54.0.tar.gz /Library/Frameworks/R.framework/Resources/bin/R les.buildbin-libdir StartedAt: 2024-10-18 19:09:18 -0400 (Fri, 18 Oct 2024) EndedAt: 2024-10-18 19:09:25 -0400 (Fri, 18 Oct 2024) EllapsedTime: 6.9 seconds RetCode: 0 Status: OK PackageFile: les_1.54.0.tgz PackageFileSize: 668.5 KiB