Package: les Version: 1.54.0 Command: /Library/Frameworks/R.framework/Resources/bin/R CMD build --keep-empty-dirs --no-resave-data les StartedAt: 2024-10-17 03:13:41 -0400 (Thu, 17 Oct 2024) EndedAt: 2024-10-17 03:14:05 -0400 (Thu, 17 Oct 2024) EllapsedTime: 23.8 seconds RetCode: 0 Status: OK PackageFile: les_1.54.0.tar.gz PackageFileSize: 448.7 KiB