Package: les Version: 1.54.0 Command: rm -rf les.buildbin-libdir && mkdir les.buildbin-libdir && /Users/biocbuild/BBS/utils/build-universal.sh les_1.54.0.tar.gz /Library/Frameworks/R.framework/Resources/bin/R les.buildbin-libdir StartedAt: 2024-06-11 11:48:56 -0400 (Tue, 11 Jun 2024) EndedAt: 2024-06-11 11:49:07 -0400 (Tue, 11 Jun 2024) EllapsedTime: 10.2 seconds RetCode: 0 Status: OK PackageFile: les_1.54.0.tgz PackageFileSize: 668 KiB