Package: les Version: 1.54.0 Command: /home/biocbuild/R/R-beta-2024-04-15_r86425/bin/R CMD INSTALL les StartedAt: 2024-05-08 20:05:05 -0000 (Wed, 08 May 2024) EndedAt: 2024-05-08 20:05:27 -0000 (Wed, 08 May 2024) EllapsedTime: 21.7 seconds RetCode: 0 Status: OK