Package: les Version: 1.54.0 Command: /home/biocbuild/bbs-3.19-bioc/R/bin/R CMD INSTALL les StartedAt: 2024-10-16 15:50:56 -0400 (Wed, 16 Oct 2024) EndedAt: 2024-10-16 15:51:03 -0400 (Wed, 16 Oct 2024) EllapsedTime: 7.1 seconds RetCode: 0 Status: OK