Package: les Version: 1.54.0 Command: rm -rf les.buildbin-libdir && mkdir les.buildbin-libdir && F:\biocbuild\bbs-3.19-bioc\R\bin\R.exe CMD INSTALL --build --library=les.buildbin-libdir les_1.54.0.tar.gz StartedAt: 2024-06-27 08:25:17 -0400 (Thu, 27 Jun 2024) EndedAt: 2024-06-27 08:25:35 -0400 (Thu, 27 Jun 2024) EllapsedTime: 18.1 seconds RetCode: 0 Status: OK PackageFile: les_1.54.0.zip PackageFileSize: 568.3 KiB