Package: les Version: 1.54.0 Command: F:\biocbuild\bbs-3.19-bioc\R\bin\R.exe CMD INSTALL les StartedAt: 2024-06-26 15:41:43 -0400 (Wed, 26 Jun 2024) EndedAt: 2024-06-26 15:42:02 -0400 (Wed, 26 Jun 2024) EllapsedTime: 19.3 seconds RetCode: 0 Status: OK