Package: les Version: 1.54.0 Command: rm -rf les.buildbin-libdir && mkdir les.buildbin-libdir && E:\biocbuild\bbs-3.19-bioc\R\bin\R.exe CMD INSTALL --build --library=les.buildbin-libdir les_1.54.0.tar.gz StartedAt: 2024-10-17 08:02:23 -0400 (Thu, 17 Oct 2024) EndedAt: 2024-10-17 08:02:38 -0400 (Thu, 17 Oct 2024) EllapsedTime: 15.0 seconds RetCode: 0 Status: OK PackageFile: les_1.54.0.zip PackageFileSize: 569.2 KiB