Package: les Version: 1.54.0 Command: chmod a+r les -R && E:\biocbuild\bbs-3.19-bioc\R\bin\R.exe CMD build --keep-empty-dirs --no-resave-data les StartedAt: 2024-10-16 19:58:35 -0400 (Wed, 16 Oct 2024) EndedAt: 2024-10-16 19:59:05 -0400 (Wed, 16 Oct 2024) EllapsedTime: 29.6 seconds RetCode: 0 Status: OK PackageFile: les_1.54.0.tar.gz PackageFileSize: 345.9 KiB