Package: les Version: 1.54.0 Command: E:\biocbuild\bbs-3.19-bioc\R\bin\R.exe CMD check --no-multiarch --install=check:les.install-out.txt --library=E:\biocbuild\bbs-3.19-bioc\R\library --no-vignettes --timings les_1.54.0.tar.gz StartedAt: 2024-10-17 02:45:51 -0400 (Thu, 17 Oct 2024) EndedAt: 2024-10-17 02:46:55 -0400 (Thu, 17 Oct 2024) EllapsedTime: 63.8 seconds RetCode: 0 Status: OK CheckDir: les.Rcheck Warnings: 0