Package: levi Version: 1.22.0 Command: /Library/Frameworks/R.framework/Resources/bin/R CMD INSTALL levi StartedAt: 2024-06-09 15:26:52 -0400 (Sun, 09 Jun 2024) EndedAt: 2024-06-09 15:27:18 -0400 (Sun, 09 Jun 2024) EllapsedTime: 25.4 seconds RetCode: 0 Status: OK