Package: levi Version: 1.22.0 Command: rm -rf levi.buildbin-libdir && mkdir levi.buildbin-libdir && /Users/biocbuild/BBS/utils/build-universal.sh levi_1.22.0.tar.gz /Library/Frameworks/R.framework/Resources/bin/R levi.buildbin-libdir StartedAt: 2024-10-17 16:28:14 -0400 (Thu, 17 Oct 2024) EndedAt: 2024-10-17 16:28:59 -0400 (Thu, 17 Oct 2024) EllapsedTime: 44.3 seconds RetCode: 0 Status: OK PackageFile: levi_1.22.0.tgz PackageFileSize: 2.353 MiB