Package: limma Version: 3.60.6 Maintainer: Gordon Smyth MaintainerEmail: smyth at wehi.edu.au git_url: https://git.bioconductor.org/packages/limma git_branch: RELEASE_3_19 git_last_commit: 0fe58f7 git_last_commit_date: 2024-09-30 07:32:23 -0400 (Mon, 30 Sep 2024)