Package: limma Version: 3.60.2 Command: rm -rf limma.buildbin-libdir && mkdir limma.buildbin-libdir && /Users/biocbuild/BBS/utils/build-universal.sh limma_3.60.2.tar.gz /Library/Frameworks/R.framework/Resources/bin/R limma.buildbin-libdir StartedAt: 2024-06-10 00:24:30 -0400 (Mon, 10 Jun 2024) EndedAt: 2024-06-10 00:24:56 -0400 (Mon, 10 Jun 2024) EllapsedTime: 25.9 seconds RetCode: 0 Status: OK PackageFile: limma_3.60.2.tgz PackageFileSize: 2.931 MiB