Package: limma Version: 3.60.6 Command: /Library/Frameworks/R.framework/Resources/bin/R CMD build --keep-empty-dirs --no-resave-data limma StartedAt: 2024-10-16 20:23:58 -0400 (Wed, 16 Oct 2024) EndedAt: 2024-10-16 20:25:13 -0400 (Wed, 16 Oct 2024) EllapsedTime: 75.8 seconds RetCode: 0 Status: OK PackageFile: limma_3.60.6.tar.gz PackageFileSize: 2.681 MiB