Package: limma Version: 3.60.6 Command: /Library/Frameworks/R.framework/Resources/bin/R CMD check --install=check:limma.install-out.txt --library=/Library/Frameworks/R.framework/Resources/library --no-vignettes --timings limma_3.60.6.tar.gz StartedAt: 2024-10-17 07:26:02 -0400 (Thu, 17 Oct 2024) EndedAt: 2024-10-17 07:29:50 -0400 (Thu, 17 Oct 2024) EllapsedTime: 228.6 seconds RetCode: 0 Status: OK CheckDir: limma.Rcheck Warnings: 0