Package: limma Version: 3.60.6 Command: rm -rf limma.buildbin-libdir && mkdir limma.buildbin-libdir && E:\biocbuild\bbs-3.19-bioc\R\bin\R.exe CMD INSTALL --build --library=limma.buildbin-libdir limma_3.60.6.tar.gz StartedAt: 2024-10-17 08:02:35 -0400 (Thu, 17 Oct 2024) EndedAt: 2024-10-17 08:03:45 -0400 (Thu, 17 Oct 2024) EllapsedTime: 69.7 seconds RetCode: 0 Status: OK PackageFile: limma_3.60.6.zip PackageFileSize: 2.979 MiB