Package: limma Version: 3.60.6 Command: E:\biocbuild\bbs-3.19-bioc\R\bin\R.exe CMD INSTALL limma StartedAt: 2024-10-16 16:03:47 -0400 (Wed, 16 Oct 2024) EndedAt: 2024-10-16 16:05:12 -0400 (Wed, 16 Oct 2024) EllapsedTime: 84.9 seconds RetCode: 0 Status: OK