Package: limpca Version: 1.0.0 Command: rm -rf limpca.buildbin-libdir && mkdir limpca.buildbin-libdir && F:\biocbuild\bbs-3.19-bioc\R\bin\R.exe CMD INSTALL --build --library=limpca.buildbin-libdir limpca_1.0.0.tar.gz StartedAt: 2024-06-27 08:25:27 -0400 (Thu, 27 Jun 2024) EndedAt: 2024-06-27 08:26:07 -0400 (Thu, 27 Jun 2024) EllapsedTime: 39.7 seconds RetCode: 0 Status: OK PackageFile: limpca_1.0.0.zip PackageFileSize: 2.194 MiB