Package: lineagespot Version: 1.8.0 Command: /Library/Frameworks/R.framework/Resources/bin/R CMD check --install=check:lineagespot.install-out.txt --library=/Library/Frameworks/R.framework/Resources/library --no-vignettes --timings lineagespot_1.8.0.tar.gz StartedAt: 2024-10-18 02:06:47 -0400 (Fri, 18 Oct 2024) EndedAt: 2024-10-18 02:13:46 -0400 (Fri, 18 Oct 2024) EllapsedTime: 419.2 seconds RetCode: 0 Status: OK CheckDir: lineagespot.Rcheck Warnings: 0