Package: lineagespot Version: 1.8.0 Command: /home/biocbuild/bbs-3.19-bioc/R/bin/R CMD build --keep-empty-dirs --no-resave-data lineagespot StartedAt: 2024-10-16 19:11:43 -0400 (Wed, 16 Oct 2024) EndedAt: 2024-10-16 19:12:49 -0400 (Wed, 16 Oct 2024) EllapsedTime: 65.2 seconds RetCode: 0 Status: OK PackageFile: lineagespot_1.8.0.tar.gz PackageFileSize: 718.6 KiB