Package: lineagespot Version: 1.8.0 Command: chmod a+r lineagespot -R && F:\biocbuild\bbs-3.19-bioc\R\bin\R.exe CMD build --keep-empty-dirs --no-resave-data lineagespot StartedAt: 2024-06-26 19:44:35 -0400 (Wed, 26 Jun 2024) EndedAt: 2024-06-26 19:45:59 -0400 (Wed, 26 Jun 2024) EllapsedTime: 83.7 seconds RetCode: 0 Status: OK PackageFile: lineagespot_1.8.0.tar.gz PackageFileSize: 718.7 KiB