Package: lineagespot Version: 1.8.0 Command: F:\biocbuild\bbs-3.19-bioc\R\bin\R.exe CMD INSTALL lineagespot StartedAt: 2024-06-26 16:10:29 -0400 (Wed, 26 Jun 2024) EndedAt: 2024-06-26 16:11:20 -0400 (Wed, 26 Jun 2024) EllapsedTime: 51.2 seconds RetCode: 0 Status: OK