Package: lionessR Version: 1.18.0 Command: /Library/Frameworks/R.framework/Resources/bin/R CMD build --keep-empty-dirs --no-resave-data lionessR StartedAt: 2024-10-17 03:16:46 -0400 (Thu, 17 Oct 2024) EndedAt: 2024-10-17 03:17:14 -0400 (Thu, 17 Oct 2024) EllapsedTime: 28.0 seconds RetCode: 0 Status: OK PackageFile: lionessR_1.18.0.tar.gz PackageFileSize: 2.85 MiB