Package: lionessR Version: 1.18.0 Command: /Library/Frameworks/R.framework/Resources/bin/R CMD INSTALL lionessR StartedAt: 2024-10-16 16:00:09 -0400 (Wed, 16 Oct 2024) EndedAt: 2024-10-16 16:00:15 -0400 (Wed, 16 Oct 2024) EllapsedTime: 5.5 seconds RetCode: 0 Status: OK