Package: lionessR Version: 1.18.0 Command: /home/biocbuild/bbs-3.19-bioc/R/bin/R CMD build --keep-empty-dirs --no-resave-data lionessR StartedAt: 2024-10-16 19:12:32 -0400 (Wed, 16 Oct 2024) EndedAt: 2024-10-16 19:12:51 -0400 (Wed, 16 Oct 2024) EllapsedTime: 19.1 seconds RetCode: 0 Status: OK PackageFile: lionessR_1.18.0.tar.gz PackageFileSize: 2.826 MiB