Package: lionessR Version: 1.18.0 Command: chmod a+r lionessR -R && E:\biocbuild\bbs-3.19-bioc\R\bin\R.exe CMD build --keep-empty-dirs --no-resave-data lionessR StartedAt: 2024-10-16 19:59:54 -0400 (Wed, 16 Oct 2024) EndedAt: 2024-10-16 20:00:18 -0400 (Wed, 16 Oct 2024) EllapsedTime: 23.8 seconds RetCode: 0 Status: OK PackageFile: lionessR_1.18.0.tar.gz PackageFileSize: 2.77 MiB