Package: lmdme Version: 1.46.0 Command: /Library/Frameworks/R.framework/Resources/bin/R CMD INSTALL lmdme StartedAt: 2024-10-16 15:44:38 -0400 (Wed, 16 Oct 2024) EndedAt: 2024-10-16 15:44:43 -0400 (Wed, 16 Oct 2024) EllapsedTime: 4.9 seconds RetCode: 0 Status: OK