Package: lmdme Version: 1.46.0 Command: /Library/Frameworks/R.framework/Resources/bin/R CMD build --keep-empty-dirs --no-resave-data lmdme StartedAt: 2024-10-16 20:25:15 -0400 (Wed, 16 Oct 2024) EndedAt: 2024-10-16 20:25:54 -0400 (Wed, 16 Oct 2024) EllapsedTime: 38.4 seconds RetCode: 0 Status: OK PackageFile: lmdme_1.46.0.tar.gz PackageFileSize: 608.7 KiB