Package: lmdme Version: 1.46.0 Command: /home/biocbuild/bbs-3.19-bioc/R/bin/R CMD build --keep-empty-dirs --no-resave-data lmdme StartedAt: 2024-10-16 19:12:44 -0400 (Wed, 16 Oct 2024) EndedAt: 2024-10-16 19:12:54 -0400 (Wed, 16 Oct 2024) EllapsedTime: 10.0 seconds RetCode: 0 Status: OK PackageFile: lmdme_1.46.0.tar.gz PackageFileSize: 609 KiB