Package: lmdme Version: 1.46.0 Command: rm -rf lmdme.buildbin-libdir && mkdir lmdme.buildbin-libdir && E:\biocbuild\bbs-3.19-bioc\R\bin\R.exe CMD INSTALL --build --library=lmdme.buildbin-libdir lmdme_1.46.0.tar.gz StartedAt: 2024-10-17 08:02:52 -0400 (Thu, 17 Oct 2024) EndedAt: 2024-10-17 08:03:10 -0400 (Thu, 17 Oct 2024) EllapsedTime: 17.9 seconds RetCode: 0 Status: OK PackageFile: lmdme_1.46.0.zip PackageFileSize: 734.7 KiB