Package: loci2path Version: 1.24.0 Command: /Library/Frameworks/R.framework/Resources/bin/R CMD INSTALL loci2path StartedAt: 2024-10-16 16:33:13 -0400 (Wed, 16 Oct 2024) EndedAt: 2024-10-16 16:33:29 -0400 (Wed, 16 Oct 2024) EllapsedTime: 15.6 seconds RetCode: 0 Status: OK