Package: loci2path Version: 1.24.0 Command: rm -rf loci2path.buildbin-libdir && mkdir loci2path.buildbin-libdir && E:\biocbuild\bbs-3.19-bioc\R\bin\R.exe CMD INSTALL --build --library=loci2path.buildbin-libdir loci2path_1.24.0.tar.gz StartedAt: 2024-10-17 08:02:55 -0400 (Thu, 17 Oct 2024) EndedAt: 2024-10-17 08:03:35 -0400 (Thu, 17 Oct 2024) EllapsedTime: 39.9 seconds RetCode: 0 Status: OK PackageFile: loci2path_1.24.0.zip PackageFileSize: 729.9 KiB