Package: lpsymphony Version: 1.32.0 Maintainer: Vladislav Kim MaintainerEmail: Vladislav.Kim at embl.de git_url: https://git.bioconductor.org/packages/lpsymphony git_branch: RELEASE_3_19 git_last_commit: 1fd208b git_last_commit_date: 2024-04-30 10:47:18 -0400 (Tue, 30 Apr 2024)