Package: lpsymphony Version: 1.32.0 Command: /home/biocbuild/bbs-3.19-bioc/R/bin/R CMD build --keep-empty-dirs --no-resave-data lpsymphony StartedAt: 2024-10-16 19:13:10 -0400 (Wed, 16 Oct 2024) EndedAt: 2024-10-16 19:20:34 -0400 (Wed, 16 Oct 2024) EllapsedTime: 443.9 seconds RetCode: 0 Status: OK PackageFile: lpsymphony_1.32.0.tar.gz PackageFileSize: 11.84 MiB