Package: lumi Version: 2.56.0 Command: rm -rf lumi.buildbin-libdir && mkdir lumi.buildbin-libdir && /Users/biocbuild/BBS/utils/build-universal.sh lumi_2.56.0.tar.gz /Library/Frameworks/R.framework/Resources/bin/R lumi.buildbin-libdir StartedAt: 2024-10-18 19:11:10 -0400 (Fri, 18 Oct 2024) EndedAt: 2024-10-18 19:12:31 -0400 (Fri, 18 Oct 2024) EllapsedTime: 81.1 seconds RetCode: 0 Status: OK PackageFile: lumi_2.56.0.tgz PackageFileSize: 4.726 MiB