Package: lumi Version: 2.56.0 Command: /Library/Frameworks/R.framework/Resources/bin/R CMD INSTALL lumi StartedAt: 2024-10-16 18:42:56 -0400 (Wed, 16 Oct 2024) EndedAt: 2024-10-16 18:44:01 -0400 (Wed, 16 Oct 2024) EllapsedTime: 65.2 seconds RetCode: 0 Status: OK