Package: lumi Version: 2.56.0 Command: /home/biocbuild/bbs-3.19-bioc/R/bin/R CMD check --install=check:lumi.install-out.txt --library=/home/biocbuild/bbs-3.19-bioc/R/site-library --timings lumi_2.56.0.tar.gz StartedAt: 2024-10-17 01:56:16 -0400 (Thu, 17 Oct 2024) EndedAt: 2024-10-17 02:03:11 -0400 (Thu, 17 Oct 2024) EllapsedTime: 415.0 seconds RetCode: 0 Status: WARNINGS CheckDir: lumi.Rcheck Warnings: 3