Package: m6Aboost Version: 1.10.0 Command: /Library/Frameworks/R.framework/Resources/bin/R CMD check --install=check:m6Aboost.install-out.txt --library=/Library/Frameworks/R.framework/Resources/library --no-vignettes --timings m6Aboost_1.10.0.tar.gz StartedAt: 2024-06-10 20:19:56 -0400 (Mon, 10 Jun 2024) EndedAt: 2024-06-10 20:29:20 -0400 (Mon, 10 Jun 2024) EllapsedTime: 564.0 seconds RetCode: 0 Status: OK CheckDir: m6Aboost.Rcheck Warnings: 0