Package: m6Aboost Version: 1.10.0 Command: /Library/Frameworks/R.framework/Resources/bin/R CMD check --install=check:m6Aboost.install-out.txt --library=/Library/Frameworks/R.framework/Resources/library --no-vignettes --timings m6Aboost_1.10.0.tar.gz StartedAt: 2024-06-09 21:14:15 -0400 (Sun, 09 Jun 2024) EndedAt: 2024-06-09 21:20:10 -0400 (Sun, 09 Jun 2024) EllapsedTime: 354.7 seconds RetCode: 0 Status: OK CheckDir: m6Aboost.Rcheck Warnings: 0