Package: m6Aboost Version: 1.10.0 Command: /home/biocbuild/bbs-3.19-bioc/R/bin/R CMD check --install=check:m6Aboost.install-out.txt --library=/home/biocbuild/bbs-3.19-bioc/R/site-library --timings m6Aboost_1.10.0.tar.gz StartedAt: 2024-10-17 01:56:45 -0400 (Thu, 17 Oct 2024) EndedAt: 2024-10-17 02:02:37 -0400 (Thu, 17 Oct 2024) EllapsedTime: 351.7 seconds RetCode: 0 Status: OK CheckDir: m6Aboost.Rcheck Warnings: 0