Package: mBPCR Version: 1.58.0 Command: /home/biocbuild/R/R-beta-2024-04-15_r86425/bin/R CMD build --keep-empty-dirs --no-resave-data mBPCR StartedAt: 2024-05-09 01:23:38 -0000 (Thu, 09 May 2024) EndedAt: 2024-05-09 01:24:56 -0000 (Thu, 09 May 2024) EllapsedTime: 78.1 seconds RetCode: 0 Status: OK PackageFile: mBPCR_1.58.0.tar.gz PackageFileSize: 825.8 KiB