Package: mBPCR Version: 1.58.0 Command: /Library/Frameworks/R.framework/Resources/bin/R CMD check --install=check:mBPCR.install-out.txt --library=/Library/Frameworks/R.framework/Resources/library --no-vignettes --timings mBPCR_1.58.0.tar.gz StartedAt: 2024-06-09 21:18:50 -0400 (Sun, 09 Jun 2024) EndedAt: 2024-06-09 21:22:55 -0400 (Sun, 09 Jun 2024) EllapsedTime: 244.8 seconds RetCode: 0 Status: OK CheckDir: mBPCR.Rcheck Warnings: 0