Package: mBPCR Version: 1.58.0 Command: rm -rf mBPCR.buildbin-libdir && mkdir mBPCR.buildbin-libdir && /Users/biocbuild/BBS/utils/build-universal.sh mBPCR_1.58.0.tar.gz /Library/Frameworks/R.framework/Resources/bin/R mBPCR.buildbin-libdir StartedAt: 2024-10-17 16:31:07 -0400 (Thu, 17 Oct 2024) EndedAt: 2024-10-17 16:32:29 -0400 (Thu, 17 Oct 2024) EllapsedTime: 82.1 seconds RetCode: 0 Status: OK PackageFile: mBPCR_1.58.0.tgz PackageFileSize: 929.9 KiB